BEGIN:VCALENDAR
VERSION:2.0
PRODID:-//Minnesota Microsoft 365 User Group - ECPv6.15.20//NONSGML v1.0//EN
CALSCALE:GREGORIAN
METHOD:PUBLISH
X-WR-CALNAME:Minnesota Microsoft 365 User Group
X-ORIGINAL-URL:https://mn365.org
X-WR-CALDESC:Events for Minnesota Microsoft 365 User Group
REFRESH-INTERVAL;VALUE=DURATION:PT1H
X-Robots-Tag:noindex
X-PUBLISHED-TTL:PT1H
BEGIN:VTIMEZONE
TZID:America/Chicago
BEGIN:DAYLIGHT
TZOFFSETFROM:-0600
TZOFFSETTO:-0500
TZNAME:CDT
DTSTART:20160313T080000
END:DAYLIGHT
BEGIN:STANDARD
TZOFFSETFROM:-0500
TZOFFSETTO:-0600
TZNAME:CST
DTSTART:20161106T070000
END:STANDARD
BEGIN:DAYLIGHT
TZOFFSETFROM:-0600
TZOFFSETTO:-0500
TZNAME:CDT
DTSTART:20170312T080000
END:DAYLIGHT
BEGIN:STANDARD
TZOFFSETFROM:-0500
TZOFFSETTO:-0600
TZNAME:CST
DTSTART:20171105T070000
END:STANDARD
BEGIN:DAYLIGHT
TZOFFSETFROM:-0600
TZOFFSETTO:-0500
TZNAME:CDT
DTSTART:20180311T080000
END:DAYLIGHT
BEGIN:STANDARD
TZOFFSETFROM:-0500
TZOFFSETTO:-0600
TZNAME:CST
DTSTART:20181104T070000
END:STANDARD
BEGIN:DAYLIGHT
TZOFFSETFROM:-0600
TZOFFSETTO:-0500
TZNAME:CDT
DTSTART:20190310T080000
END:DAYLIGHT
BEGIN:STANDARD
TZOFFSETFROM:-0500
TZOFFSETTO:-0600
TZNAME:CST
DTSTART:20191103T070000
END:STANDARD
END:VTIMEZONE
BEGIN:VEVENT
DTSTART;TZID=America/Chicago:20180618T120000
DTEND;TZID=America/Chicago:20180618T150000
DTSTAMP:20260423T035634
CREATED:20181005T202710Z
LAST-MODIFIED:20181005T214120Z
UID:1830-1529323200-1529334000@mn365.org
SUMMARY:Agile Scrum using MS Teams
DESCRIPTION:There are several systems which traditionally have a fair amount of success in management of documents created during a project and managing tasks and timelines. However\, it didn’t quite match the efforts of the agile/scrum team. With the new Team platform in O365\, there are new advantages for these types of teams and makes for great collaboration when not co-located. Learn the key benefits of this new platform\, from setting up channels for sprints\, accessing and sharing documents and enhance your collaboration experiences. \nAgile Scrum using MS Teams-O365MN \nBio: Liz is a Microsoft Office Servers and Services MVP and is involved with multiple areas of the business as a consultant for SharePoint and Office 365. Her work includes a variety of aspects from developing strategies to aid in collaboration\, identifying best practices for SharePoint and Office 365 to run efficiently and working with multiple teams on identifying needs and areas of improvement. Liz loves a challenge\, so everything from a business problem to troubleshooting an error in a system is just another learning opportunity. As a trainer and international speaker\, she hopes to inspire others to learn something they can apply to their own work immediately. When she is not working in SharePoint or traveling\, you may find her in a variety of activities as diverse as she is: playing music\, riding motorcycles\, training her dog and even a craft or two. You can follow her on twitter @percusn. \n  \nSponsored by MN O365 User Group Board
URL:https://mn365.org/event/agile-scrum-using-ms-teams/
LOCATION:Microsoft Technology Center – Edina\, 3601 W 76th St\, 6th Floor\, Edina\, MN\, 55345\, United States
CATEGORIES:User Group Meetings
ATTACH;FMTTYPE=image/jpeg:https://mn365.org/wp-content/uploads/2018/10/LizSundet.jpg
ORGANIZER;CN="Minnesota Microsoft 365 User Group Board":MAILTO:info@mn365.org
END:VEVENT
BEGIN:VEVENT
DTSTART;TZID=America/Chicago:20180521T120000
DTEND;TZID=America/Chicago:20180521T150000
DTSTAMP:20260423T035634
CREATED:20181005T203152Z
LAST-MODIFIED:20181005T214126Z
UID:1833-1526904000-1526914800@mn365.org
SUMMARY:Making the Most of your Hybrid Identity with Azure Active Directory
DESCRIPTION:Deep dive into Azure AD and Hybrid Identity \nPresented by Cody Billings \nSponsored by RBA
URL:https://mn365.org/event/making-the-most-of-your-hybrid-identity-with-azure-active-directory/
LOCATION:Microsoft Technology Center – Edina\, 3601 W 76th St\, 6th Floor\, Edina\, MN\, 55345\, United States
CATEGORIES:User Group Meetings
ATTACH;FMTTYPE=image/jpeg:https://mn365.org/wp-content/uploads/2018/03/Billings2015_106.jpg
ORGANIZER;CN="Minnesota Microsoft 365 User Group Board":MAILTO:info@mn365.org
END:VEVENT
BEGIN:VEVENT
DTSTART;TZID=America/Chicago:20180416T120000
DTEND;TZID=America/Chicago:20180416T150000
DTSTAMP:20260423T035634
CREATED:20181005T203418Z
LAST-MODIFIED:20181005T214133Z
UID:1835-1523880000-1523890800@mn365.org
SUMMARY:Office 365 Ask the Experts
DESCRIPTION:Product announcements and Ask the Experts panel \n  \nSponsored by SkyKick
URL:https://mn365.org/event/office-365-ask-the-experts/
LOCATION:Microsoft Technology Center – Edina\, 3601 W 76th St\, 6th Floor\, Edina\, MN\, 55345\, United States
CATEGORIES:User Group Meetings
ORGANIZER;CN="Minnesota Microsoft 365 User Group Board":MAILTO:info@mn365.org
END:VEVENT
BEGIN:VEVENT
DTSTART;TZID=America/Chicago:20180319T120000
DTEND;TZID=America/Chicago:20180319T150000
DTSTAMP:20260423T035634
CREATED:20181005T203717Z
LAST-MODIFIED:20181005T214140Z
UID:1837-1521460800-1521471600@mn365.org
SUMMARY:Office 365 Adoption
DESCRIPTION:Presented by Sarah Haase \n 
URL:https://mn365.org/event/office-365-adoption/
LOCATION:MN
CATEGORIES:User Group Meetings
ATTACH;FMTTYPE=image/jpeg:https://mn365.org/wp-content/uploads/2018/10/sarah.jpg
END:VEVENT
BEGIN:VEVENT
DTSTART;TZID=America/Chicago:20180215T120000
DTEND;TZID=America/Chicago:20180215T150000
DTSTAMP:20260423T035634
CREATED:20181005T204326Z
LAST-MODIFIED:20181005T214146Z
UID:1840-1518696000-1518706800@mn365.org
SUMMARY:Gaining insights with Power BI
DESCRIPTION:Presented By Daniel Glenn
URL:https://mn365.org/event/gaining-insights-with-power-bi/
LOCATION:Avtex\, 3500 American Blvd #300\, Bloomington\, MN\, 55431\, United States
CATEGORIES:User Group Meetings
ATTACH;FMTTYPE=image/jpeg:https://mn365.org/wp-content/uploads/2018/10/danielglenn.jpg
ORGANIZER;CN="Minnesota Microsoft 365 User Group Board":MAILTO:info@mn365.org
END:VEVENT
BEGIN:VEVENT
DTSTART;TZID=America/Chicago:20180111T120000
DTEND;TZID=America/Chicago:20180111T150000
DTSTAMP:20260423T035634
CREATED:20181005T204709Z
LAST-MODIFIED:20181005T214154Z
UID:1844-1515672000-1515682800@mn365.org
SUMMARY:Microsoft Yammer
DESCRIPTION:Learn about all the updates coming to Yammer in 2018. \nPresented by Steve Nguyen\, Microsoft
URL:https://mn365.org/event/microsoft-yammer/
LOCATION:Microsoft Technology Center – Edina\, 3601 W 76th St\, 6th Floor\, Edina\, MN\, 55345\, United States
CATEGORIES:User Group Meetings
ATTACH;FMTTYPE=image/jpeg:https://mn365.org/wp-content/uploads/2018/10/SteveNguyen.jpg
ORGANIZER;CN="Minnesota Microsoft 365 User Group Board":MAILTO:info@mn365.org
END:VEVENT
BEGIN:VEVENT
DTSTART;TZID=America/Chicago:20171211T120000
DTEND;TZID=America/Chicago:20171211T150000
DTSTAMP:20260423T035634
CREATED:20181005T204852Z
LAST-MODIFIED:20181008T143022Z
UID:1847-1512993600-1513004400@mn365.org
SUMMARY:Going with the Flow
DESCRIPTION:Presented by Michelle Gilbert
URL:https://mn365.org/event/going-with-the-flow/
LOCATION:Microsoft Technology Center – Edina\, 3601 W 76th St\, 6th Floor\, Edina\, MN\, 55345\, United States
CATEGORIES:User Group Meetings
ATTACH;FMTTYPE=image/jpeg:https://mn365.org/wp-content/uploads/2018/10/michelle-300-e1729825135729.jpg
ORGANIZER;CN="Minnesota Microsoft 365 User Group Board":MAILTO:info@mn365.org
END:VEVENT
BEGIN:VEVENT
DTSTART;TZID=America/Chicago:20171004T120000
DTEND;TZID=America/Chicago:20171004T150000
DTSTAMP:20260423T035634
CREATED:20181005T205157Z
LAST-MODIFIED:20181008T130824Z
UID:1849-1507118400-1507129200@mn365.org
SUMMARY:Ignite 2017 Panel of Experts
DESCRIPTION:Panelists: Michelle Gilbert\, Micah Linehan\, Tim Davis\, Brian Caauwe\, Connor Mullaney
URL:https://mn365.org/event/ignite-2017-panel-of-experts/
LOCATION:Microsoft Technology Center – Edina\, 3601 W 76th St\, 6th Floor\, Edina\, MN\, 55345\, United States
CATEGORIES:User Group Meetings
ORGANIZER;CN="Minnesota Microsoft 365 User Group Board":MAILTO:info@mn365.org
END:VEVENT
BEGIN:VEVENT
DTSTART;TZID=America/Chicago:20170823T120000
DTEND;TZID=America/Chicago:20170823T150000
DTSTAMP:20260423T035634
CREATED:20181005T205410Z
LAST-MODIFIED:20181005T214222Z
UID:1851-1503489600-1503500400@mn365.org
SUMMARY:Office 365 Change Management
DESCRIPTION:Presented by Max Fritz
URL:https://mn365.org/event/office-365-change-management/
LOCATION:Microsoft Technology Center – Edina\, 3601 W 76th St\, 6th Floor\, Edina\, MN\, 55345\, United States
CATEGORIES:User Group Meetings
ATTACH;FMTTYPE=image/jpeg:https://mn365.org/wp-content/uploads/2017/02/8682.jpg
ORGANIZER;CN="Minnesota Microsoft 365 User Group Board":MAILTO:info@mn365.org
END:VEVENT
BEGIN:VEVENT
DTSTART;TZID=America/Chicago:20170727T120000
DTEND;TZID=America/Chicago:20170727T150000
DTSTAMP:20260423T035634
CREATED:20170924T023840Z
LAST-MODIFIED:20181008T130741Z
UID:1780-1501156800-1501167600@mn365.org
SUMMARY:Exchange Online Transport\, Mail Flow\, and OneDrive Management
DESCRIPTION:Exchange Online Transport & Mail Flow\, presented by Sean Greenlee\nOneDrive Management\, presented by Max Fritz & Micah Linehan
URL:https://mn365.org/event/exchange-online-transport-mail-flow-and-onedrive-management/
LOCATION:Microsoft Technology Center – Edina\, 3601 W 76th St\, 6th Floor\, Edina\, MN\, 55345\, United States
CATEGORIES:User Group Meetings
ORGANIZER;CN="Minnesota Microsoft 365 User Group Board":MAILTO:info@mn365.org
END:VEVENT
BEGIN:VEVENT
DTSTART;TZID=America/Chicago:20170523T120000
DTEND;TZID=America/Chicago:20170523T150000
DTSTAMP:20260423T035634
CREATED:20180924T023509Z
LAST-MODIFIED:20181008T130651Z
UID:1778-1495540800-1495551600@mn365.org
SUMMARY:O365 Groups and Exchange Online Protection
DESCRIPTION:Office 365 Groups\, presented by Dennis Alexander\nExchange Online Protection\, presented by Chris Blackburn
URL:https://mn365.org/event/o365-groups-and-exchange-online-protection/
LOCATION:Microsoft Technology Center – Edina\, 3601 W 76th St\, 6th Floor\, Edina\, MN\, 55345\, United States
CATEGORIES:User Group Meetings
ORGANIZER;CN="Minnesota Microsoft 365 User Group Board":MAILTO:info@mn365.org
END:VEVENT
BEGIN:VEVENT
DTSTART;TZID=America/Chicago:20170330T120000
DTEND;TZID=America/Chicago:20170330T150000
DTSTAMP:20260423T035634
CREATED:20180924T023312Z
LAST-MODIFIED:20181005T214246Z
UID:1773-1490875200-1490886000@mn365.org
SUMMARY:Configuring and Managing Security & Compliance features in Office 365
DESCRIPTION:Configuring and Managing Security & Compliance features in Office 365\, presented by Max Fritz\nAdvanced Security Management & Cloud App Security\, presented by Micah Linehan
URL:https://mn365.org/event/configuring-and-managing-security-compliance-features-in-office-365/
LOCATION:Microsoft Technology Center – Edina\, 3601 W 76th St\, 6th Floor\, Edina\, MN\, 55345\, United States
CATEGORIES:User Group Meetings
ATTACH;FMTTYPE=image/jpeg:https://mn365.org/wp-content/uploads/2017/02/8682.jpg
ORGANIZER;CN="Minnesota Microsoft 365 User Group Board":MAILTO:info@mn365.org
END:VEVENT
END:VCALENDAR