BEGIN:VCALENDAR
VERSION:2.0
PRODID:-//Minnesota Microsoft 365 User Group - ECPv6.15.20//NONSGML v1.0//EN
CALSCALE:GREGORIAN
METHOD:PUBLISH
X-WR-CALNAME:Minnesota Microsoft 365 User Group
X-ORIGINAL-URL:https://mn365.org
X-WR-CALDESC:Events for Minnesota Microsoft 365 User Group
REFRESH-INTERVAL;VALUE=DURATION:PT1H
X-Robots-Tag:noindex
X-PUBLISHED-TTL:PT1H
BEGIN:VTIMEZONE
TZID:America/Chicago
BEGIN:DAYLIGHT
TZOFFSETFROM:-0600
TZOFFSETTO:-0500
TZNAME:CDT
DTSTART:20250309T080000
END:DAYLIGHT
BEGIN:STANDARD
TZOFFSETFROM:-0500
TZOFFSETTO:-0600
TZNAME:CST
DTSTART:20251102T070000
END:STANDARD
BEGIN:DAYLIGHT
TZOFFSETFROM:-0600
TZOFFSETTO:-0500
TZNAME:CDT
DTSTART:20260308T080000
END:DAYLIGHT
BEGIN:STANDARD
TZOFFSETFROM:-0500
TZOFFSETTO:-0600
TZNAME:CST
DTSTART:20261101T070000
END:STANDARD
BEGIN:DAYLIGHT
TZOFFSETFROM:-0600
TZOFFSETTO:-0500
TZNAME:CDT
DTSTART:20270314T080000
END:DAYLIGHT
BEGIN:STANDARD
TZOFFSETFROM:-0500
TZOFFSETTO:-0600
TZNAME:CST
DTSTART:20271107T070000
END:STANDARD
END:VTIMEZONE
BEGIN:VEVENT
DTSTART;TZID=America/Chicago:20260515T080000
DTEND;TZID=America/Chicago:20260515T163000
DTSTAMP:20260421T193539
CREATED:20260402T035005Z
LAST-MODIFIED:20260402T035005Z
UID:5556-1778832000-1778862600@mn365.org
SUMMARY:Minnesota Microsoft 365 User Group - Spring Workshop Day 2026
DESCRIPTION:In-person Microsoft event featuring in-depth workshops on Microsoft 365 Administration\, Adoption\, AI\, Collaboration\, Compliance & Security\n\n\nThe audience of our workshop day focuses on all the Microsoft 365 stakeholders within organizations including: administrators\, architects\, engineers\, operations\, power users\, citizen developers\, and more. The event is scheduled for Friday\, May 15th\, and will be hosted in-person at the Microsoft Innovation Hub (fka MTC) in Edina\, MN. This all-day event runs from 8:00 am to 4:30 pm CST and will feature in-depth workshops focused on Microsoft 365 Administration\, Adoption\, AI\, Automation\, Collaboration\, Compliance & Security.
URL:https://mn365.org/event/minnesota-microsoft-365-user-group-spring-workshop-day-2026/
LOCATION:Microsoft Technology Center – Edina\, 3601 W 76th St 6th Floor\, Edina\, MN 55345\, Edina\, MN\, 55345\, US
CATEGORIES:Special Events
ATTACH;FMTTYPE=image/jpeg:https://mn365.org/wp-content/uploads/2026/04/5556_image.jpg
END:VEVENT
END:VCALENDAR